BEGIN:VCALENDAR
VERSION:2.0
PRODID:-//Milton Philharmonic Orchestra - ECPv6.15.20//NONSGML v1.0//EN
CALSCALE:GREGORIAN
METHOD:PUBLISH
X-WR-CALNAME:Milton Philharmonic Orchestra
X-ORIGINAL-URL:https://miltonphilharmonic.com
X-WR-CALDESC:Events for Milton Philharmonic Orchestra
REFRESH-INTERVAL;VALUE=DURATION:PT1H
X-Robots-Tag:noindex
X-PUBLISHED-TTL:PT1H
BEGIN:VTIMEZONE
TZID:America/Toronto
BEGIN:DAYLIGHT
TZOFFSETFROM:-0500
TZOFFSETTO:-0400
TZNAME:EDT
DTSTART:20130310T070000
END:DAYLIGHT
BEGIN:STANDARD
TZOFFSETFROM:-0400
TZOFFSETTO:-0500
TZNAME:EST
DTSTART:20131103T060000
END:STANDARD
BEGIN:DAYLIGHT
TZOFFSETFROM:-0500
TZOFFSETTO:-0400
TZNAME:EDT
DTSTART:20140309T070000
END:DAYLIGHT
BEGIN:STANDARD
TZOFFSETFROM:-0400
TZOFFSETTO:-0500
TZNAME:EST
DTSTART:20141102T060000
END:STANDARD
BEGIN:DAYLIGHT
TZOFFSETFROM:-0500
TZOFFSETTO:-0400
TZNAME:EDT
DTSTART:20150308T070000
END:DAYLIGHT
BEGIN:STANDARD
TZOFFSETFROM:-0400
TZOFFSETTO:-0500
TZNAME:EST
DTSTART:20151101T060000
END:STANDARD
END:VTIMEZONE
BEGIN:VEVENT
DTSTART;TZID=America/Toronto:20141005T163000
DTEND;TZID=America/Toronto:20141005T203000
DTSTAMP:20260423T071423
CREATED:20140926T144418Z
LAST-MODIFIED:20141001T001341Z
UID:218-1412526600-1412541000@miltonphilharmonic.com
SUMMARY:ICCM 2nd Annual Venetian Masquerade Gala (Private Event)
DESCRIPTION:ICCM 2nd Annual Venetian Masquerade Gala Fundraiser. Private engagement. \nShare this:Share\n				Share on Reddit (Opens in new window)\n				Reddit\n			Tweet\n				Email a link to a friend (Opens in new window)\n				Email\n			\n				Print (Opens in new window)\n				Print\n			Share on Tumblr
URL:https://miltonphilharmonic.com/event/iccm-2nd-annual-venetian-masquerade-gala-fundraiser/
CATEGORIES:Appearance,Local,Private
END:VEVENT
BEGIN:VEVENT
DTSTART;TZID=America/Toronto:20140927T121500
DTEND;TZID=America/Toronto:20140927T131500
DTSTAMP:20260423T071423
CREATED:20140926T142950Z
LAST-MODIFIED:20141001T001314Z
UID:212-1411820100-1411823700@miltonphilharmonic.com
SUMMARY:Culture Days
DESCRIPTION:Join us for Culture Days as members of the Milton Philharmonic perform “Pop Goes the Classics” in the Fieldgate Atrium at the Milton Centre for the Arts! Members of the audience will be given the opportunity to conduct a segment of a well known classic during the “Conduct Us” portion of our performance. Hope to see you there! \nShare this:Share\n				Share on Reddit (Opens in new window)\n				Reddit\n			Tweet\n				Email a link to a friend (Opens in new window)\n				Email\n			\n				Print (Opens in new window)\n				Print\n			Share on Tumblr
URL:https://miltonphilharmonic.com/event/culture-days/
CATEGORIES:Appearance,Free,Local,Public
ATTACH;FMTTYPE=image/gif:https://miltonphilharmonic.com/wp-content/uploads/2014/09/cultureis_bg.gif
END:VEVENT
END:VCALENDAR